BEGIN:VCALENDAR
VERSION:2.0
PRODID:-//PANK - ECPv6.15.20//NONSGML v1.0//EN
CALSCALE:GREGORIAN
METHOD:PUBLISH
X-WR-CALNAME:PANK
X-ORIGINAL-URL:https://preetz-im-wandel.de
X-WR-CALDESC:Veranstaltungen für PANK
REFRESH-INTERVAL;VALUE=DURATION:PT1H
X-Robots-Tag:noindex
X-PUBLISHED-TTL:PT1H
BEGIN:VTIMEZONE
TZID:Europe/Helsinki
BEGIN:DAYLIGHT
TZOFFSETFROM:+0200
TZOFFSETTO:+0300
TZNAME:EEST
DTSTART:20250330T010000
END:DAYLIGHT
BEGIN:STANDARD
TZOFFSETFROM:+0300
TZOFFSETTO:+0200
TZNAME:EET
DTSTART:20251026T010000
END:STANDARD
BEGIN:DAYLIGHT
TZOFFSETFROM:+0200
TZOFFSETTO:+0300
TZNAME:EEST
DTSTART:20260329T010000
END:DAYLIGHT
BEGIN:STANDARD
TZOFFSETFROM:+0300
TZOFFSETTO:+0200
TZNAME:EET
DTSTART:20261025T010000
END:STANDARD
BEGIN:DAYLIGHT
TZOFFSETFROM:+0200
TZOFFSETTO:+0300
TZNAME:EEST
DTSTART:20270328T010000
END:DAYLIGHT
BEGIN:STANDARD
TZOFFSETFROM:+0300
TZOFFSETTO:+0200
TZNAME:EET
DTSTART:20271031T010000
END:STANDARD
END:VTIMEZONE
BEGIN:VEVENT
DTSTART;TZID=Europe/Helsinki:20260604T000000
DTEND;TZID=Europe/Helsinki:20260604T235959
DTSTAMP:20260423T141610
CREATED:20260227T155909Z
LAST-MODIFIED:20260227T155910Z
UID:2825-1780531200-1780617599@preetz-im-wandel.de
SUMMARY:Kleidertauschbörse
DESCRIPTION:Ort: Haus der Diakonie Preetz\, nähere Infos folgen
URL:https://preetz-im-wandel.de/event/kleidertauschboerse/
END:VEVENT
BEGIN:VEVENT
DTSTART;TZID=Europe/Helsinki:20260607T110000
DTEND;TZID=Europe/Helsinki:20260607T170000
DTSTAMP:20260423T141610
CREATED:20260130T145003Z
LAST-MODIFIED:20260130T145004Z
UID:2751-1780830000-1780851600@preetz-im-wandel.de
SUMMARY:Fahrrad- und Umweltfest
DESCRIPTION:Ort: Marktplatz Preetz
URL:https://preetz-im-wandel.de/event/fahrrad-und-umweltfest/
END:VEVENT
BEGIN:VEVENT
DTSTART;TZID=Europe/Helsinki:20260620T153000
DTEND;TZID=Europe/Helsinki:20260620T173000
DTSTAMP:20260423T141610
CREATED:20260131T070523Z
LAST-MODIFIED:20260131T070524Z
UID:2757-1781969400-1781976600@preetz-im-wandel.de
SUMMARY:PANK-Sitzung
DESCRIPTION:VHS Preetz\, Raum 105
URL:https://preetz-im-wandel.de/event/pank-sitzung-19/
END:VEVENT
END:VCALENDAR