BEGIN:VCALENDAR
VERSION:2.0
PRODID:-//PANK - ECPv6.15.20//NONSGML v1.0//EN
CALSCALE:GREGORIAN
METHOD:PUBLISH
X-ORIGINAL-URL:https://preetz-im-wandel.de
X-WR-CALDESC:Veranstaltungen für PANK
REFRESH-INTERVAL;VALUE=DURATION:PT1H
X-Robots-Tag:noindex
X-PUBLISHED-TTL:PT1H
BEGIN:VTIMEZONE
TZID:Europe/Helsinki
BEGIN:DAYLIGHT
TZOFFSETFROM:+0200
TZOFFSETTO:+0300
TZNAME:EEST
DTSTART:20240331T010000
END:DAYLIGHT
BEGIN:STANDARD
TZOFFSETFROM:+0300
TZOFFSETTO:+0200
TZNAME:EET
DTSTART:20241027T010000
END:STANDARD
BEGIN:DAYLIGHT
TZOFFSETFROM:+0200
TZOFFSETTO:+0300
TZNAME:EEST
DTSTART:20250330T010000
END:DAYLIGHT
BEGIN:STANDARD
TZOFFSETFROM:+0300
TZOFFSETTO:+0200
TZNAME:EET
DTSTART:20251026T010000
END:STANDARD
BEGIN:DAYLIGHT
TZOFFSETFROM:+0200
TZOFFSETTO:+0300
TZNAME:EEST
DTSTART:20260329T010000
END:DAYLIGHT
BEGIN:STANDARD
TZOFFSETFROM:+0300
TZOFFSETTO:+0200
TZNAME:EET
DTSTART:20261025T010000
END:STANDARD
END:VTIMEZONE
BEGIN:VEVENT
DTSTART;TZID=Europe/Helsinki:20251011T140000
DTEND;TZID=Europe/Helsinki:20251011T170000
DTSTAMP:20260421T112012
CREATED:20250717T080950Z
LAST-MODIFIED:20250717T081003Z
UID:2150-1760191200-1760202000@preetz-im-wandel.de
SUMMARY:Wir gründen ein Reparaturcafé
DESCRIPTION:
URL:https://preetz-im-wandel.de/event/wir-gruenden-ein-reparaturcafe/
LOCATION:Mensa der Schulen am Hufenweg\, Hufenweg 5\, Preetz\, 24211\, Deutschland
END:VEVENT
BEGIN:VEVENT
DTSTART;TZID=Europe/Helsinki:20251013T000000
DTEND;TZID=Europe/Helsinki:20251018T235959
DTSTAMP:20260421T112012
CREATED:20250709T060613Z
LAST-MODIFIED:20250709T060613Z
UID:2130-1760313600-1760831999@preetz-im-wandel.de
SUMMARY:Klimaschutzwoche der Klimaschutzagentur des Kreises Plön
DESCRIPTION:
URL:https://preetz-im-wandel.de/event/klimaschutzwoche-der-klimaschutzagentur-des-kreises-ploen/
LOCATION:Kreis Plön
END:VEVENT
BEGIN:VEVENT
DTSTART;TZID=Europe/Helsinki:20251014T000000
DTEND;TZID=Europe/Helsinki:20251014T235959
DTSTAMP:20260421T112012
CREATED:20250709T060229Z
LAST-MODIFIED:20250709T060229Z
UID:2126-1760400000-1760486399@preetz-im-wandel.de
SUMMARY:Ideensession: Gemeinsam für Klimaschutz vor Ort"
DESCRIPTION:
URL:https://preetz-im-wandel.de/event/ideensession-gemeinsam-fuer-klimaschutz-vor-ort/
LOCATION:VHS Preetz\, Hufenweg 5\, Preetz\, 24211\, Deutschland
END:VEVENT
BEGIN:VEVENT
DTSTART;TZID=Europe/Helsinki:20251025T153000
DTEND;TZID=Europe/Helsinki:20251025T173000
DTSTAMP:20260421T112012
CREATED:20250209T091021Z
LAST-MODIFIED:20250209T091021Z
UID:1704-1761406200-1761413400@preetz-im-wandel.de
SUMMARY:PANK-Sitzung
DESCRIPTION:
URL:https://preetz-im-wandel.de/event/pank-sitzung-7/
LOCATION:VHS Preetz\, Raum 105
END:VEVENT
BEGIN:VEVENT
DTSTART;TZID=Europe/Helsinki:20251028T190000
DTEND;TZID=Europe/Helsinki:20251028T190000
DTSTAMP:20260421T112012
CREATED:20251005T053212Z
LAST-MODIFIED:20251005T053243Z
UID:2410-1761678000-1761678000@preetz-im-wandel.de
SUMMARY:Klimaretter Seegraswiesen?
DESCRIPTION:Herr Prof. Thorsten Reusch\, GEOMAR Kiel\, Forschungsbereich 3 – Marine Ökologie – Forschungseinheit Marine Evolutionsökologie\, hält am Di. 28. Oktober um 19 Uhr einen Vortrag in Laboe im Freya-Frahm-Haus\, Strandstrasse 15. \n„Seegräser sind die einzigen Blütenpflanzen der Meere. Ihre etwa 70 Arten bilden ausgedehnte Unterwasserwiesen\, die nicht nur Lebensraum für unzählige Meerestiere bieten\, sondern auch Küsten vor Erosion schützen und die Wasserqualität verbessern. Momentan im Fokus ist jedoch die Rolle von Seegras im Klimaschutz: Es zählt zu den effizientesten natürlichen Kohlenstoffspeichern der Erde. \nIm Vergleich zu Wäldern an Land bindet Seegras CO₂ um ein Vielfaches schneller und lagert den Kohlenstoff über Jahrtausende im Meeresboden ein – ein zentraler Beitrag zum sogenannten „Blue Carbon“. Trotz seiner Bedeutung ist es durch Küstenbebauung\, Nährstoffeinträge und zunehmend durch die Folgen des Klimawandels stark bedroht. \nSchutz- und Wiederherstellungsmaßnahmen sind daher dringend nötig. Der Vortrag wird zum einen auf die laufende Forschung zu optimalen Renaturierungsmethoden in der Ostsee eingehen. Zum anderen berichte ich\, wie unser heimisches Seegras überhaupt in den Ostatlantik kam\, wie sich Seegras selber kloniert\, und wie alt manche Klone werden können. Seegraswiesen vereinen Biodiversitätsschutz und Klimaschutz und könnten zu einem wichtigen Baustein globaler Strategien gegen die Klimakrise werden.
URL:https://preetz-im-wandel.de/event/klimaretter-seegraswiesen/
LOCATION:Freya-Frahm-Haus Laboe\, Strandstrasse 15\, Laboe\, 24235\, Deutschland
END:VEVENT
END:VCALENDAR