BEGIN:VCALENDAR
VERSION:2.0
PRODID:-//PANK - ECPv6.15.20//NONSGML v1.0//EN
CALSCALE:GREGORIAN
METHOD:PUBLISH
X-WR-CALNAME:PANK
X-ORIGINAL-URL:https://preetz-im-wandel.de
X-WR-CALDESC:Veranstaltungen für PANK
REFRESH-INTERVAL;VALUE=DURATION:PT1H
X-Robots-Tag:noindex
X-PUBLISHED-TTL:PT1H
BEGIN:VTIMEZONE
TZID:Europe/Helsinki
BEGIN:DAYLIGHT
TZOFFSETFROM:+0200
TZOFFSETTO:+0300
TZNAME:EEST
DTSTART:20250330T010000
END:DAYLIGHT
BEGIN:STANDARD
TZOFFSETFROM:+0300
TZOFFSETTO:+0200
TZNAME:EET
DTSTART:20251026T010000
END:STANDARD
BEGIN:DAYLIGHT
TZOFFSETFROM:+0200
TZOFFSETTO:+0300
TZNAME:EEST
DTSTART:20260329T010000
END:DAYLIGHT
BEGIN:STANDARD
TZOFFSETFROM:+0300
TZOFFSETTO:+0200
TZNAME:EET
DTSTART:20261025T010000
END:STANDARD
BEGIN:DAYLIGHT
TZOFFSETFROM:+0200
TZOFFSETTO:+0300
TZNAME:EEST
DTSTART:20270328T010000
END:DAYLIGHT
BEGIN:STANDARD
TZOFFSETFROM:+0300
TZOFFSETTO:+0200
TZNAME:EET
DTSTART:20271031T010000
END:STANDARD
END:VTIMEZONE
BEGIN:VEVENT
DTSTART;TZID=Europe/Helsinki:20260420T190000
DTEND;TZID=Europe/Helsinki:20260420T203000
DTSTAMP:20260421T133523
CREATED:20260316T072531Z
LAST-MODIFIED:20260316T072532Z
UID:2854-1776711600-1776717000@preetz-im-wandel.de
SUMMARY:Online-Veranstaltung: Tourismus und Ostseeschutz -gegeneinander oder Hand in Hand?
DESCRIPTION:Weitere Infos: hier
URL:https://preetz-im-wandel.de/event/online-veranstaltung-tourismus-und-ostseeschutz-gegeneinander-oder-hand-in-hand/
END:VEVENT
END:VCALENDAR