BEGIN:VCALENDAR
VERSION:2.0
PRODID:-//PANK - ECPv6.15.20//NONSGML v1.0//EN
CALSCALE:GREGORIAN
METHOD:PUBLISH
X-WR-CALNAME:PANK
X-ORIGINAL-URL:https://preetz-im-wandel.de
X-WR-CALDESC:Veranstaltungen für PANK
REFRESH-INTERVAL;VALUE=DURATION:PT1H
X-Robots-Tag:noindex
X-PUBLISHED-TTL:PT1H
BEGIN:VTIMEZONE
TZID:Europe/Helsinki
BEGIN:DAYLIGHT
TZOFFSETFROM:+0200
TZOFFSETTO:+0300
TZNAME:EEST
DTSTART:20240331T010000
END:DAYLIGHT
BEGIN:STANDARD
TZOFFSETFROM:+0300
TZOFFSETTO:+0200
TZNAME:EET
DTSTART:20241027T010000
END:STANDARD
BEGIN:DAYLIGHT
TZOFFSETFROM:+0200
TZOFFSETTO:+0300
TZNAME:EEST
DTSTART:20250330T010000
END:DAYLIGHT
BEGIN:STANDARD
TZOFFSETFROM:+0300
TZOFFSETTO:+0200
TZNAME:EET
DTSTART:20251026T010000
END:STANDARD
BEGIN:DAYLIGHT
TZOFFSETFROM:+0200
TZOFFSETTO:+0300
TZNAME:EEST
DTSTART:20260329T010000
END:DAYLIGHT
BEGIN:STANDARD
TZOFFSETFROM:+0300
TZOFFSETTO:+0200
TZNAME:EET
DTSTART:20261025T010000
END:STANDARD
END:VTIMEZONE
BEGIN:VEVENT
DTSTART;TZID=Europe/Helsinki:20251028T190000
DTEND;TZID=Europe/Helsinki:20251028T190000
DTSTAMP:20260421T111142
CREATED:20251005T053212Z
LAST-MODIFIED:20251005T053243Z
UID:2410-1761678000-1761678000@preetz-im-wandel.de
SUMMARY:Klimaretter Seegraswiesen?
DESCRIPTION:Herr Prof. Thorsten Reusch\, GEOMAR Kiel\, Forschungsbereich 3 – Marine Ökologie – Forschungseinheit Marine Evolutionsökologie\, hält am Di. 28. Oktober um 19 Uhr einen Vortrag in Laboe im Freya-Frahm-Haus\, Strandstrasse 15. \n„Seegräser sind die einzigen Blütenpflanzen der Meere. Ihre etwa 70 Arten bilden ausgedehnte Unterwasserwiesen\, die nicht nur Lebensraum für unzählige Meerestiere bieten\, sondern auch Küsten vor Erosion schützen und die Wasserqualität verbessern. Momentan im Fokus ist jedoch die Rolle von Seegras im Klimaschutz: Es zählt zu den effizientesten natürlichen Kohlenstoffspeichern der Erde. \nIm Vergleich zu Wäldern an Land bindet Seegras CO₂ um ein Vielfaches schneller und lagert den Kohlenstoff über Jahrtausende im Meeresboden ein – ein zentraler Beitrag zum sogenannten „Blue Carbon“. Trotz seiner Bedeutung ist es durch Küstenbebauung\, Nährstoffeinträge und zunehmend durch die Folgen des Klimawandels stark bedroht. \nSchutz- und Wiederherstellungsmaßnahmen sind daher dringend nötig. Der Vortrag wird zum einen auf die laufende Forschung zu optimalen Renaturierungsmethoden in der Ostsee eingehen. Zum anderen berichte ich\, wie unser heimisches Seegras überhaupt in den Ostatlantik kam\, wie sich Seegras selber kloniert\, und wie alt manche Klone werden können. Seegraswiesen vereinen Biodiversitätsschutz und Klimaschutz und könnten zu einem wichtigen Baustein globaler Strategien gegen die Klimakrise werden.
URL:https://preetz-im-wandel.de/event/klimaretter-seegraswiesen/
LOCATION:Freya-Frahm-Haus Laboe\, Strandstrasse 15\, Laboe\, 24235\, Deutschland
END:VEVENT
END:VCALENDAR