BEGIN:VCALENDAR
VERSION:2.0
PRODID:-//PANK - ECPv6.15.20//NONSGML v1.0//EN
CALSCALE:GREGORIAN
METHOD:PUBLISH
X-ORIGINAL-URL:https://preetz-im-wandel.de
X-WR-CALDESC:Veranstaltungen für PANK
REFRESH-INTERVAL;VALUE=DURATION:PT1H
X-Robots-Tag:noindex
X-PUBLISHED-TTL:PT1H
BEGIN:VTIMEZONE
TZID:Europe/Helsinki
BEGIN:DAYLIGHT
TZOFFSETFROM:+0200
TZOFFSETTO:+0300
TZNAME:EEST
DTSTART:20240331T010000
END:DAYLIGHT
BEGIN:STANDARD
TZOFFSETFROM:+0300
TZOFFSETTO:+0200
TZNAME:EET
DTSTART:20241027T010000
END:STANDARD
BEGIN:DAYLIGHT
TZOFFSETFROM:+0200
TZOFFSETTO:+0300
TZNAME:EEST
DTSTART:20250330T010000
END:DAYLIGHT
BEGIN:STANDARD
TZOFFSETFROM:+0300
TZOFFSETTO:+0200
TZNAME:EET
DTSTART:20251026T010000
END:STANDARD
BEGIN:DAYLIGHT
TZOFFSETFROM:+0200
TZOFFSETTO:+0300
TZNAME:EEST
DTSTART:20260329T010000
END:DAYLIGHT
BEGIN:STANDARD
TZOFFSETFROM:+0300
TZOFFSETTO:+0200
TZNAME:EET
DTSTART:20261025T010000
END:STANDARD
END:VTIMEZONE
BEGIN:VEVENT
DTSTART;TZID=Europe/Helsinki:20250930T180000
DTEND;TZID=Europe/Helsinki:20250930T200000
DTSTAMP:20260423T120757
CREATED:20250717T080318Z
LAST-MODIFIED:20250717T081049Z
UID:2147-1759255200-1759262400@preetz-im-wandel.de
SUMMARY:Ideenwerkstatt: Wohnen und Leben in Preetz
DESCRIPTION:Wohnen und Leben in Preetz – Gemeinsam nicht einsam \nWie wollen wir in Preetz wohnen – und miteinander leben? \nWas brauchen wir\, damit sich Menschen jeden Alters zuhause\, eingebunden und gesehen fühlen? \n  \nEinsamkeit betrifft viele – oft leise\, oft im Verborgenen. Dabei ist das Zuhause mehr als nur ein Ort zum Schlafen. Es ist ein Ort des Wohlfühlens\, der Begegnung\, des Miteinanders. \nDeshalb laden wir herzlich ein zu einem Abend\, der Mut machen soll: zum Zuhören\, Austauschen\, Mitgestalten. \n  \nNach einem kurzen Auftakt stellen sich Menschen mit ganz unterschiedlichen Perspektiven vor – von der Frauenbeauftragten über Wohnprojekt-Initiator*innen bis hin zu Engagierten aus der Stadt. Sie zeigen auf\, was bereits gedacht und gemacht wird – und wo neue Ideen gefragt sind. \n  \nAnschließend öffnen wir den Raum für Gespräche in kleiner Runde – eine Ideenwerkstatt für alle\, die Lust haben\, sich einzubringen. \n  \nUnd wichtig ist uns: \nEs soll nicht bei guten Vorschlägen bleiben\, die in der Schublade landen. \nWir wollen Energie wecken – zum Weiterdenken und Dranbleiben. Denn gutes Wohnen und Leben in Preetz geht uns alle an. Und gemeinsam geht es besser. \n  \nWir freuen uns\, wenn Sie dabei sind. \nKommen Sie vorbei\, bringen Sie sich ein\, und gestalten Sie mit.
URL:https://preetz-im-wandel.de/event/ideenwerkstatt-wohnen-und-leben-in-preetz/
LOCATION:Mensa der Schulen am Hufenweg\, Hufenweg 5\, Preetz\, 24211\, Deutschland
END:VEVENT
END:VCALENDAR