BEGIN:VCALENDAR
VERSION:2.0
PRODID:-//PANK - ECPv6.15.20//NONSGML v1.0//EN
CALSCALE:GREGORIAN
METHOD:PUBLISH
X-ORIGINAL-URL:https://preetz-im-wandel.de
X-WR-CALDESC:Veranstaltungen für PANK
REFRESH-INTERVAL;VALUE=DURATION:PT1H
X-Robots-Tag:noindex
X-PUBLISHED-TTL:PT1H
BEGIN:VTIMEZONE
TZID:Europe/Helsinki
BEGIN:DAYLIGHT
TZOFFSETFROM:+0200
TZOFFSETTO:+0300
TZNAME:EEST
DTSTART:20240331T010000
END:DAYLIGHT
BEGIN:STANDARD
TZOFFSETFROM:+0300
TZOFFSETTO:+0200
TZNAME:EET
DTSTART:20241027T010000
END:STANDARD
BEGIN:DAYLIGHT
TZOFFSETFROM:+0200
TZOFFSETTO:+0300
TZNAME:EEST
DTSTART:20250330T010000
END:DAYLIGHT
BEGIN:STANDARD
TZOFFSETFROM:+0300
TZOFFSETTO:+0200
TZNAME:EET
DTSTART:20251026T010000
END:STANDARD
BEGIN:DAYLIGHT
TZOFFSETFROM:+0200
TZOFFSETTO:+0300
TZNAME:EEST
DTSTART:20260329T010000
END:DAYLIGHT
BEGIN:STANDARD
TZOFFSETFROM:+0300
TZOFFSETTO:+0200
TZNAME:EET
DTSTART:20261025T010000
END:STANDARD
END:VTIMEZONE
BEGIN:VEVENT
DTSTART;TZID=Europe/Helsinki:20250920T090000
DTEND;TZID=Europe/Helsinki:20250920T110000
DTSTAMP:20260423T133336
CREATED:20250828T054041Z
LAST-MODIFIED:20250828T054108Z
UID:2257-1758358800-1758366000@preetz-im-wandel.de
SUMMARY:Müllsammel-Aktion im Rahmen des World Cleanup Day
DESCRIPTION:
URL:https://preetz-im-wandel.de/event/muellsammel-aktion-im-rahmen-des-world-cleanup-day/
LOCATION:Quellstein am Markt\, Markt\, Preetz\, 24211
END:VEVENT
BEGIN:VEVENT
DTSTART;TZID=Europe/Helsinki:20250920T120000
DTEND;TZID=Europe/Helsinki:20250920T120000
DTSTAMP:20260423T133336
CREATED:20250906T062256Z
LAST-MODIFIED:20250906T062329Z
UID:2277-1758369600-1758369600@preetz-im-wandel.de
SUMMARY:Erster Laboer Fahrradcorso
DESCRIPTION:
URL:https://preetz-im-wandel.de/event/erster-laboer-fahrradcorso/
LOCATION:Feldstraße 42\, Laboe\, Feldstraße 42\, Laboe\, 24235
END:VEVENT
BEGIN:VEVENT
DTSTART;TZID=Europe/Helsinki:20250920T143000
DTEND;TZID=Europe/Helsinki:20250920T180000
DTSTAMP:20260423T133336
CREATED:20250827T134407Z
LAST-MODIFIED:20250827T134407Z
UID:2247-1758378600-1758391200@preetz-im-wandel.de
SUMMARY:Informationsveranstaltung zur Wärmeplanung in Preetz
DESCRIPTION:In welchem Stadium befinden sich die Planungen der Stadt Preetz in Bezug auf die Wärmewende? In welchen Quartieren kommen leitungsgebundene Nahwärmesysteme infrage und wo dezentrale Lösungen wie zum Beispiel Wärmepumpen? Wer bietet Eigentümerinnen und Eigentümern von Immobilien in Preetz technische Lösungen an? Um diese Fragen geht es bei der Informationsveranstaltung „Wärmewende in Preetz – Nahwärmenetze und Wärmepumpen“\, die vom Klimaschutzmanagement der Stadt zusammen mit dem örtlichen Haus- und Grundverein sowie der Volkshochschule Preetz und PANK am 20.09.2025\, 14.30 Uhr\, in der Mensa der Theodor-Heuss-Gemeinschaftsschule durchgeführt wird. Die Veranstaltung ist kostenfrei und für jedermann zugänglich.
URL:https://preetz-im-wandel.de/event/informationsveranstaltung-zur-waermeplanung-in-preetz/
LOCATION:Mensa der Theodor-Heuss-Gemeinschaftsschule\, Castöhlenweg 4\, Preetz\, 24211
END:VEVENT
END:VCALENDAR